BEGIN:VCALENDAR
VERSION:2.0
PRODID:http://www.infomax-online.de/imxeventmanager/
METHOD:PUBLISH
BEGIN:VTIMEZONE
TZID:Europe/Berlin
TZURL:http://tzurl.org/zoneinfo-outlook/Europe/Berlin
X-LIC-LOCATION:Europe/Berlin
END:VTIMEZONE
BEGIN:VEVENT
UID:69eb9f075293d
LOCATION:Bunsenweg 11, 82538 Geretsried
SUMMARY:Deine Holzbank - Dein Werk
DESCRIPTION:Du baust Dir Deine eigene Bank aus hochwertigem Holz\, zB Douglasie\, für Drinnen oder Draussen\, klein oder groß\, zum Sitzen oder als Ablage: eine Bank – viele Möglichkeiten. Und nebenbei lernst Du mit einer Schreinerin die Handhabung der wichtigsten Holzbearbeitungsmaschinen50€ für das Material werden direkt bei der Kursleiterin entrichtet.
URL;VALUE=URI:https://www.tourismus.geretsried.de/e-deine-holzbank-dein-werk-1
CLASS:PUBLIC
DTSTAMP:20260424T184911
DTSTART:20260530T100000
DTEND:20260530T170000
END:VEVENT
END:VCALENDAR